BEGIN:VCALENDAR
VERSION:2.0
PRODID:-//The Philosophers House - ECPv6.15.14//NONSGML v1.0//EN
CALSCALE:GREGORIAN
METHOD:PUBLISH
X-WR-CALNAME:The Philosophers House
X-ORIGINAL-URL:https://thephilosophershouse.org
X-WR-CALDESC:Events for The Philosophers House
REFRESH-INTERVAL;VALUE=DURATION:PT1H
X-Robots-Tag:noindex
X-PUBLISHED-TTL:PT1H
BEGIN:VTIMEZONE
TZID:America/Halifax
BEGIN:DAYLIGHT
TZOFFSETFROM:-0400
TZOFFSETTO:-0300
TZNAME:ADT
DTSTART:20250309T060000
END:DAYLIGHT
BEGIN:STANDARD
TZOFFSETFROM:-0300
TZOFFSETTO:-0400
TZNAME:AST
DTSTART:20251102T050000
END:STANDARD
BEGIN:DAYLIGHT
TZOFFSETFROM:-0400
TZOFFSETTO:-0300
TZNAME:ADT
DTSTART:20260308T060000
END:DAYLIGHT
BEGIN:STANDARD
TZOFFSETFROM:-0300
TZOFFSETTO:-0400
TZNAME:AST
DTSTART:20261101T050000
END:STANDARD
BEGIN:DAYLIGHT
TZOFFSETFROM:-0400
TZOFFSETTO:-0300
TZNAME:ADT
DTSTART:20270314T060000
END:DAYLIGHT
BEGIN:STANDARD
TZOFFSETFROM:-0300
TZOFFSETTO:-0400
TZNAME:AST
DTSTART:20271107T050000
END:STANDARD
END:VTIMEZONE
BEGIN:VEVENT
DTSTART;TZID=America/Halifax:20260505T180000
DTEND;TZID=America/Halifax:20260505T193000
DTSTAMP:20260422T111032
CREATED:20260105T023123Z
LAST-MODIFIED:20260210T200239Z
UID:10003801-1778004000-1778009400@thephilosophershouse.org
SUMMARY:Tuesday Tunes: Blues with GMan Blues (Greg Goulds)
DESCRIPTION:GmanBlues\, otherwise known as Coach Greg Goulds\, is a deep dive into the history of the blues itself. Whether you seek a cure-all for heartbreak\, a reminder of the good times\, or one hell of a good story\, Gman Blues provides a one-of-a-kind entertainment experience with depth and feeling many acts just can’t replicate.\nAs a solo act\, Goulds provides an intimate\, one-on-one show soaking in emotion; When Gman brings in his rhythm section\, his hard- stomping\, rip-roaring blues will have audiences cheering along.\n\n\nHow to register: No registration needed. Drop-in \nCost: Tips to musicians encouraged\, food/drink purchases encouraged. Come help support local music at a local nonprofit! \nLocation: Living room/fireplace\, 1st floor \nAn East TN native\, Gman has fiddled around with guitars since he was a kid\, but only in the last few years has he started venturing out\, playing live venues like Gypsy Circus Cider Company and Capone’s. Heavily influenced by the likes of Muddy Waters\, Robert Johnson\, and John Lee Hooker\, GmanBlues isn’t afraid to delve into\nthe roots. \nGoulds also prides himself on deep connections to other local acts\, saying that\nhis real inspiration lies in the great talent rooted right here in East TN.\nAbove all else\, Gman Blues plays the way he lives his life\, with a whole lot of heart and a whole lot of love.
URL:https://thephilosophershouse.org/event/tuesday-tunes-gman-blues-2/2026-05-05/
LOCATION:The Philosopher’s House\, 117 W Fairview Ave.\, Johnson City\, 37604
ATTACH;FMTTYPE=image/jpeg:https://thephilosophershouse.org/wp-content/uploads/2026/01/Facebook-banner-18-e1767498928102-3l5OEw.tmp_.jpg
END:VEVENT
BEGIN:VEVENT
DTSTART;TZID=America/Halifax:20260707T180000
DTEND;TZID=America/Halifax:20260707T193000
DTSTAMP:20260422T111032
CREATED:20260105T023123Z
LAST-MODIFIED:20260210T200239Z
UID:10003802-1783447200-1783452600@thephilosophershouse.org
SUMMARY:Tuesday Tunes: Blues with GMan Blues (Greg Goulds)
DESCRIPTION:GmanBlues\, otherwise known as Coach Greg Goulds\, is a deep dive into the history of the blues itself. Whether you seek a cure-all for heartbreak\, a reminder of the good times\, or one hell of a good story\, Gman Blues provides a one-of-a-kind entertainment experience with depth and feeling many acts just can’t replicate.\nAs a solo act\, Goulds provides an intimate\, one-on-one show soaking in emotion; When Gman brings in his rhythm section\, his hard- stomping\, rip-roaring blues will have audiences cheering along.\n\n\nHow to register: No registration needed. Drop-in \nCost: Tips to musicians encouraged\, food/drink purchases encouraged. Come help support local music at a local nonprofit! \nLocation: Living room/fireplace\, 1st floor \nAn East TN native\, Gman has fiddled around with guitars since he was a kid\, but only in the last few years has he started venturing out\, playing live venues like Gypsy Circus Cider Company and Capone’s. Heavily influenced by the likes of Muddy Waters\, Robert Johnson\, and John Lee Hooker\, GmanBlues isn’t afraid to delve into\nthe roots. \nGoulds also prides himself on deep connections to other local acts\, saying that\nhis real inspiration lies in the great talent rooted right here in East TN.\nAbove all else\, Gman Blues plays the way he lives his life\, with a whole lot of heart and a whole lot of love.
URL:https://thephilosophershouse.org/event/tuesday-tunes-gman-blues-2/2026-07-07/
LOCATION:The Philosopher’s House\, 117 W Fairview Ave.\, Johnson City\, 37604
ATTACH;FMTTYPE=image/jpeg:https://thephilosophershouse.org/wp-content/uploads/2026/01/Facebook-banner-18-e1767498928102-3l5OEw.tmp_.jpg
END:VEVENT
BEGIN:VEVENT
DTSTART;TZID=America/Halifax:20260901T180000
DTEND;TZID=America/Halifax:20260901T193000
DTSTAMP:20260422T111032
CREATED:20260105T023123Z
LAST-MODIFIED:20260210T200239Z
UID:10003803-1788285600-1788291000@thephilosophershouse.org
SUMMARY:Tuesday Tunes: Blues with GMan Blues (Greg Goulds)
DESCRIPTION:GmanBlues\, otherwise known as Coach Greg Goulds\, is a deep dive into the history of the blues itself. Whether you seek a cure-all for heartbreak\, a reminder of the good times\, or one hell of a good story\, Gman Blues provides a one-of-a-kind entertainment experience with depth and feeling many acts just can’t replicate.\nAs a solo act\, Goulds provides an intimate\, one-on-one show soaking in emotion; When Gman brings in his rhythm section\, his hard- stomping\, rip-roaring blues will have audiences cheering along.\n\n\nHow to register: No registration needed. Drop-in \nCost: Tips to musicians encouraged\, food/drink purchases encouraged. Come help support local music at a local nonprofit! \nLocation: Living room/fireplace\, 1st floor \nAn East TN native\, Gman has fiddled around with guitars since he was a kid\, but only in the last few years has he started venturing out\, playing live venues like Gypsy Circus Cider Company and Capone’s. Heavily influenced by the likes of Muddy Waters\, Robert Johnson\, and John Lee Hooker\, GmanBlues isn’t afraid to delve into\nthe roots. \nGoulds also prides himself on deep connections to other local acts\, saying that\nhis real inspiration lies in the great talent rooted right here in East TN.\nAbove all else\, Gman Blues plays the way he lives his life\, with a whole lot of heart and a whole lot of love.
URL:https://thephilosophershouse.org/event/tuesday-tunes-gman-blues-2/2026-09-01/
LOCATION:The Philosopher’s House\, 117 W Fairview Ave.\, Johnson City\, 37604
ATTACH;FMTTYPE=image/jpeg:https://thephilosophershouse.org/wp-content/uploads/2026/01/Facebook-banner-18-e1767498928102-3l5OEw.tmp_.jpg
END:VEVENT
END:VCALENDAR