BEGIN:VCALENDAR
VERSION:2.0
PRODID:-//The Philosophers House - ECPv6.15.14//NONSGML v1.0//EN
CALSCALE:GREGORIAN
METHOD:PUBLISH
X-WR-CALNAME:The Philosophers House
X-ORIGINAL-URL:https://thephilosophershouse.org
X-WR-CALDESC:Events for The Philosophers House
REFRESH-INTERVAL;VALUE=DURATION:PT1H
X-Robots-Tag:noindex
X-PUBLISHED-TTL:PT1H
BEGIN:VTIMEZONE
TZID:UTC
BEGIN:STANDARD
TZOFFSETFROM:+0000
TZOFFSETTO:+0000
TZNAME:UTC
DTSTART:20250101T000000
END:STANDARD
END:VTIMEZONE
BEGIN:VEVENT
DTSTART;TZID=UTC:20260306T160000
DTEND;TZID=UTC:20260306T180000
DTSTAMP:20260421T211444
CREATED:20260304T200647Z
LAST-MODIFIED:20260304T200819Z
UID:10004109-1772812800-1772820000@thephilosophershouse.org
SUMMARY:Girl Scout Cookie Pop-up!
DESCRIPTION:It’s Girl Scout cookie season...come support a wonderful program and get some yummy cookies at the same time! We will also have three drink specials to complement the Samoas/Caramel Delits (A Coconut/Chocolate white tea latte with whipped cream and caramel drizzle)\, the Lemonades/Lemon-ups (A creamy white chocolate and lemon latte with whipped cream) and the Thin Mints (a delightful mint/chocolate mocha with whipped cream and cocoa sprinkles)…all can be served hot or cold and finished with milk of choice (base has some dairy). \nOrder your cookies ahead of time with the QR code to ensure that you get what you want! \nLocation: Living room/tea table area\, 1st floor \n 
URL:https://thephilosophershouse.org/event/girl-scout-cookie-pop-up/2026-03-06/
LOCATION:The Philosopher’s House\, 117 W Fairview Ave.\, Johnson City\, 37604
CATEGORIES:Event,Food-Drink
ATTACH;FMTTYPE=image/jpeg:https://thephilosophershouse.org/wp-content/uploads/2026/03/1.jpg
END:VEVENT
END:VCALENDAR