BEGIN:VCALENDAR
VERSION:2.0
PRODID:-//The Philosophers House - ECPv6.15.14//NONSGML v1.0//EN
CALSCALE:GREGORIAN
METHOD:PUBLISH
X-ORIGINAL-URL:https://thephilosophershouse.org
X-WR-CALDESC:Events for The Philosophers House
REFRESH-INTERVAL;VALUE=DURATION:PT1H
X-Robots-Tag:noindex
X-PUBLISHED-TTL:PT1H
BEGIN:VTIMEZONE
TZID:UTC
BEGIN:STANDARD
TZOFFSETFROM:+0000
TZOFFSETTO:+0000
TZNAME:UTC
DTSTART:20250101T000000
END:STANDARD
END:VTIMEZONE
BEGIN:VEVENT
DTSTART;TZID=UTC:20260301T130000
DTEND;TZID=UTC:20260301T180000
DTSTAMP:20260421T211755
CREATED:20260204T013014Z
LAST-MODIFIED:20260227T175203Z
UID:10004100-1772370000-1772388000@thephilosophershouse.org
SUMMARY:Sunpod Sundays (Mobile Sauna)
DESCRIPTION:We’re so excited to offer another Community Sesh at the teahouse! Come in from the cold and get HOT in the sauna! \nWe’ll be set up at the teahouse (tea break\, anyone?) from 1pm-5:30pm.  Book a spot before they’re gone! \nWhat is a Community Sesh?\nIt’s where we set up our mobile wood-stove sauna as a shared space for like-minded people (warmth lovers).\n\nHow to register: Reserve your space and time directly at our website https://sunpodsauna.com/#Menu (please choose your date and session length) \nLocation: Outdoor/courtyard \nCost: 20.00-30.00\, choose your date and session length at website link above. \nWhat to bring: Bring your own refillable water bottle (filtered water available inside)\, a bathing suit and robe\, slip-on shoes for moving between indoor/outdoor space. \nNOTE: If you’d like the sauna all to yourself\, we are happy to bring it to you for rental!
URL:https://thephilosophershouse.org/event/sunpod-sundays-mobile-sauna/2026-03-01/
CATEGORIES:Event
ATTACH;FMTTYPE=image/jpeg:https://thephilosophershouse.org/wp-content/uploads/2026/02/Light-Brown-Minimalist-Calming-New-Sauna-Promo-Beauty-and-Spa-Instagram-Story-5.jpg
ORGANIZER;CN="The Philosophers House":MAILTO:thephilosophershouse@gmail.com
END:VEVENT
BEGIN:VEVENT
DTSTART;TZID=UTC:20260301T130000
DTEND;TZID=UTC:20260301T180000
DTSTAMP:20260421T211755
CREATED:20260414T094943Z
LAST-MODIFIED:20260414T094943Z
UID:10004412-1772370000-1772388000@thephilosophershouse.org
SUMMARY:Sunpod Sundays (Mobile Sauna)
DESCRIPTION:We’re so excited to offer another Community Sesh at the teahouse! Come in from the cold and get HOT in the sauna! \nWe’ll be set up at the teahouse (tea break\, anyone?) from 1pm-5:30pm.  Book a spot before they’re gone! \nWhat is a Community Sesh?\nIt’s where we set up our mobile wood-stove sauna as a shared space for like-minded people (warmth lovers).\n\nHow to register: Reserve your space and time directly at our website https://sunpodsauna.com/#Menu (please choose your date and session length) \nLocation: Outdoor/courtyard \nCost: 20.00-30.00\, choose your date and session length at website link above. \nWhat to bring: Bring your own refillable water bottle (filtered water available inside)\, a bathing suit and robe\, slip-on shoes for moving between indoor/outdoor space. \nNOTE: If you’d like the sauna all to yourself\, we are happy to bring it to you for rental!
URL:https://thephilosophershouse.org/event/sunpod-sundays-mobile-sauna-3/
CATEGORIES:Event
ATTACH;FMTTYPE=image/jpeg:https://thephilosophershouse.org/wp-content/uploads/2026/02/Light-Brown-Minimalist-Calming-New-Sauna-Promo-Beauty-and-Spa-Instagram-Story-5.jpg
ORGANIZER;CN="The Philosophers House":MAILTO:thephilosophershouse@gmail.com
END:VEVENT
BEGIN:VEVENT
DTSTART;TZID=UTC:20260301T130000
DTEND;TZID=UTC:20260301T180000
DTSTAMP:20260421T211755
CREATED:20260414T214941Z
LAST-MODIFIED:20260414T214941Z
UID:10004414-1772370000-1772388000@thephilosophershouse.org
SUMMARY:Sunpod Sundays (Mobile Sauna)
DESCRIPTION:We’re so excited to offer another Community Sesh at the teahouse! Come in from the cold and get HOT in the sauna! \nWe’ll be set up at the teahouse (tea break\, anyone?) from 1pm-5:30pm.  Book a spot before they’re gone! \nWhat is a Community Sesh?\nIt’s where we set up our mobile wood-stove sauna as a shared space for like-minded people (warmth lovers).\n\nHow to register: Reserve your space and time directly at our website https://sunpodsauna.com/#Menu (please choose your date and session length) \nLocation: Outdoor/courtyard \nCost: 20.00-30.00\, choose your date and session length at website link above. \nWhat to bring: Bring your own refillable water bottle (filtered water available inside)\, a bathing suit and robe\, slip-on shoes for moving between indoor/outdoor space. \nNOTE: If you’d like the sauna all to yourself\, we are happy to bring it to you for rental!
URL:https://thephilosophershouse.org/event/sunpod-sundays-mobile-sauna-2/
CATEGORIES:Event
ATTACH;FMTTYPE=image/jpeg:https://thephilosophershouse.org/wp-content/uploads/2026/02/Light-Brown-Minimalist-Calming-New-Sauna-Promo-Beauty-and-Spa-Instagram-Story-5.jpg
ORGANIZER;CN="The Philosophers House":MAILTO:thephilosophershouse@gmail.com
END:VEVENT
BEGIN:VEVENT
DTSTART;TZID=UTC:20260301T130000
DTEND;TZID=UTC:20260301T180000
DTSTAMP:20260421T211755
CREATED:20260415T094942Z
LAST-MODIFIED:20260415T094942Z
UID:10004415-1772370000-1772388000@thephilosophershouse.org
SUMMARY:Sunpod Sundays (Mobile Sauna)
DESCRIPTION:We’re so excited to offer another Community Sesh at the teahouse! Come in from the cold and get HOT in the sauna! \nWe’ll be set up at the teahouse (tea break\, anyone?) from 1pm-5:30pm.  Book a spot before they’re gone! \nWhat is a Community Sesh?\nIt’s where we set up our mobile wood-stove sauna as a shared space for like-minded people (warmth lovers).\n\nHow to register: Reserve your space and time directly at our website https://sunpodsauna.com/#Menu (please choose your date and session length) \nLocation: Outdoor/courtyard \nCost: 20.00-30.00\, choose your date and session length at website link above. \nWhat to bring: Bring your own refillable water bottle (filtered water available inside)\, a bathing suit and robe\, slip-on shoes for moving between indoor/outdoor space. \nNOTE: If you’d like the sauna all to yourself\, we are happy to bring it to you for rental!
URL:https://thephilosophershouse.org/event/sunpod-sundays-mobile-sauna-4/
CATEGORIES:Event
ATTACH;FMTTYPE=image/jpeg:https://thephilosophershouse.org/wp-content/uploads/2026/02/Light-Brown-Minimalist-Calming-New-Sauna-Promo-Beauty-and-Spa-Instagram-Story-5.jpg
ORGANIZER;CN="The Philosophers House":MAILTO:thephilosophershouse@gmail.com
END:VEVENT
BEGIN:VEVENT
DTSTART;TZID=UTC:20260301T130000
DTEND;TZID=UTC:20260301T180000
DTSTAMP:20260421T211755
CREATED:20260415T214940Z
LAST-MODIFIED:20260415T214940Z
UID:10004424-1772370000-1772388000@thephilosophershouse.org
SUMMARY:Sunpod Sundays (Mobile Sauna)
DESCRIPTION:We’re so excited to offer another Community Sesh at the teahouse! Come in from the cold and get HOT in the sauna! \nWe’ll be set up at the teahouse (tea break\, anyone?) from 1pm-5:30pm.  Book a spot before they’re gone! \nWhat is a Community Sesh?\nIt’s where we set up our mobile wood-stove sauna as a shared space for like-minded people (warmth lovers).\n\nHow to register: Reserve your space and time directly at our website https://sunpodsauna.com/#Menu (please choose your date and session length) \nLocation: Outdoor/courtyard \nCost: 20.00-30.00\, choose your date and session length at website link above. \nWhat to bring: Bring your own refillable water bottle (filtered water available inside)\, a bathing suit and robe\, slip-on shoes for moving between indoor/outdoor space. \nNOTE: If you’d like the sauna all to yourself\, we are happy to bring it to you for rental!
URL:https://thephilosophershouse.org/event/sunpod-sundays-mobile-sauna-5/
CATEGORIES:Event
ATTACH;FMTTYPE=image/jpeg:https://thephilosophershouse.org/wp-content/uploads/2026/02/Light-Brown-Minimalist-Calming-New-Sauna-Promo-Beauty-and-Spa-Instagram-Story-5.jpg
ORGANIZER;CN="The Philosophers House":MAILTO:thephilosophershouse@gmail.com
END:VEVENT
BEGIN:VEVENT
DTSTART;TZID=UTC:20260301T130000
DTEND;TZID=UTC:20260301T180000
DTSTAMP:20260421T211755
CREATED:20260416T094941Z
LAST-MODIFIED:20260416T094941Z
UID:10004425-1772370000-1772388000@thephilosophershouse.org
SUMMARY:Sunpod Sundays (Mobile Sauna)
DESCRIPTION:We’re so excited to offer another Community Sesh at the teahouse! Come in from the cold and get HOT in the sauna! \nWe’ll be set up at the teahouse (tea break\, anyone?) from 1pm-5:30pm.  Book a spot before they’re gone! \nWhat is a Community Sesh?\nIt’s where we set up our mobile wood-stove sauna as a shared space for like-minded people (warmth lovers).\n\nHow to register: Reserve your space and time directly at our website https://sunpodsauna.com/#Menu (please choose your date and session length) \nLocation: Outdoor/courtyard \nCost: 20.00-30.00\, choose your date and session length at website link above. \nWhat to bring: Bring your own refillable water bottle (filtered water available inside)\, a bathing suit and robe\, slip-on shoes for moving between indoor/outdoor space. \nNOTE: If you’d like the sauna all to yourself\, we are happy to bring it to you for rental!
URL:https://thephilosophershouse.org/event/sunpod-sundays-mobile-sauna-6/
CATEGORIES:Event
ATTACH;FMTTYPE=image/jpeg:https://thephilosophershouse.org/wp-content/uploads/2026/02/Light-Brown-Minimalist-Calming-New-Sauna-Promo-Beauty-and-Spa-Instagram-Story-5.jpg
ORGANIZER;CN="The Philosophers House":MAILTO:thephilosophershouse@gmail.com
END:VEVENT
BEGIN:VEVENT
DTSTART;TZID=UTC:20260301T130000
DTEND;TZID=UTC:20260301T180000
DTSTAMP:20260421T211755
CREATED:20260416T214943Z
LAST-MODIFIED:20260416T214943Z
UID:10004426-1772370000-1772388000@thephilosophershouse.org
SUMMARY:Sunpod Sundays (Mobile Sauna)
DESCRIPTION:We’re so excited to offer another Community Sesh at the teahouse! Come in from the cold and get HOT in the sauna! \nWe’ll be set up at the teahouse (tea break\, anyone?) from 1pm-5:30pm.  Book a spot before they’re gone! \nWhat is a Community Sesh?\nIt’s where we set up our mobile wood-stove sauna as a shared space for like-minded people (warmth lovers).\n\nHow to register: Reserve your space and time directly at our website https://sunpodsauna.com/#Menu (please choose your date and session length) \nLocation: Outdoor/courtyard \nCost: 20.00-30.00\, choose your date and session length at website link above. \nWhat to bring: Bring your own refillable water bottle (filtered water available inside)\, a bathing suit and robe\, slip-on shoes for moving between indoor/outdoor space. \nNOTE: If you’d like the sauna all to yourself\, we are happy to bring it to you for rental!
URL:https://thephilosophershouse.org/event/sunpod-sundays-mobile-sauna-7/
CATEGORIES:Event
ATTACH;FMTTYPE=image/jpeg:https://thephilosophershouse.org/wp-content/uploads/2026/02/Light-Brown-Minimalist-Calming-New-Sauna-Promo-Beauty-and-Spa-Instagram-Story-5.jpg
ORGANIZER;CN="The Philosophers House":MAILTO:thephilosophershouse@gmail.com
END:VEVENT
BEGIN:VEVENT
DTSTART;TZID=UTC:20260301T130000
DTEND;TZID=UTC:20260301T180000
DTSTAMP:20260421T211755
CREATED:20260417T094945Z
LAST-MODIFIED:20260417T094945Z
UID:10004427-1772370000-1772388000@thephilosophershouse.org
SUMMARY:Sunpod Sundays (Mobile Sauna)
DESCRIPTION:We’re so excited to offer another Community Sesh at the teahouse! Come in from the cold and get HOT in the sauna! \nWe’ll be set up at the teahouse (tea break\, anyone?) from 1pm-5:30pm.  Book a spot before they’re gone! \nWhat is a Community Sesh?\nIt’s where we set up our mobile wood-stove sauna as a shared space for like-minded people (warmth lovers).\n\nHow to register: Reserve your space and time directly at our website https://sunpodsauna.com/#Menu (please choose your date and session length) \nLocation: Outdoor/courtyard \nCost: 20.00-30.00\, choose your date and session length at website link above. \nWhat to bring: Bring your own refillable water bottle (filtered water available inside)\, a bathing suit and robe\, slip-on shoes for moving between indoor/outdoor space. \nNOTE: If you’d like the sauna all to yourself\, we are happy to bring it to you for rental!
URL:https://thephilosophershouse.org/event/sunpod-sundays-mobile-sauna-8/
CATEGORIES:Event
ATTACH;FMTTYPE=image/jpeg:https://thephilosophershouse.org/wp-content/uploads/2026/02/Light-Brown-Minimalist-Calming-New-Sauna-Promo-Beauty-and-Spa-Instagram-Story-5.jpg
ORGANIZER;CN="The Philosophers House":MAILTO:thephilosophershouse@gmail.com
END:VEVENT
BEGIN:VEVENT
DTSTART;TZID=UTC:20260301T130000
DTEND;TZID=UTC:20260301T180000
DTSTAMP:20260421T211755
CREATED:20260417T214943Z
LAST-MODIFIED:20260417T214943Z
UID:10004428-1772370000-1772388000@thephilosophershouse.org
SUMMARY:Sunpod Sundays (Mobile Sauna)
DESCRIPTION:We’re so excited to offer another Community Sesh at the teahouse! Come in from the cold and get HOT in the sauna! \nWe’ll be set up at the teahouse (tea break\, anyone?) from 1pm-5:30pm.  Book a spot before they’re gone! \nWhat is a Community Sesh?\nIt’s where we set up our mobile wood-stove sauna as a shared space for like-minded people (warmth lovers).\n\nHow to register: Reserve your space and time directly at our website https://sunpodsauna.com/#Menu (please choose your date and session length) \nLocation: Outdoor/courtyard \nCost: 20.00-30.00\, choose your date and session length at website link above. \nWhat to bring: Bring your own refillable water bottle (filtered water available inside)\, a bathing suit and robe\, slip-on shoes for moving between indoor/outdoor space. \nNOTE: If you’d like the sauna all to yourself\, we are happy to bring it to you for rental!
URL:https://thephilosophershouse.org/event/sunpod-sundays-mobile-sauna-9/
CATEGORIES:Event
ATTACH;FMTTYPE=image/jpeg:https://thephilosophershouse.org/wp-content/uploads/2026/02/Light-Brown-Minimalist-Calming-New-Sauna-Promo-Beauty-and-Spa-Instagram-Story-5.jpg
ORGANIZER;CN="The Philosophers House":MAILTO:thephilosophershouse@gmail.com
END:VEVENT
BEGIN:VEVENT
DTSTART;TZID=UTC:20260301T130000
DTEND;TZID=UTC:20260301T180000
DTSTAMP:20260421T211755
CREATED:20260418T094942Z
LAST-MODIFIED:20260418T094942Z
UID:10004429-1772370000-1772388000@thephilosophershouse.org
SUMMARY:Sunpod Sundays (Mobile Sauna)
DESCRIPTION:We’re so excited to offer another Community Sesh at the teahouse! Come in from the cold and get HOT in the sauna! \nWe’ll be set up at the teahouse (tea break\, anyone?) from 1pm-5:30pm.  Book a spot before they’re gone! \nWhat is a Community Sesh?\nIt’s where we set up our mobile wood-stove sauna as a shared space for like-minded people (warmth lovers).\n\nHow to register: Reserve your space and time directly at our website https://sunpodsauna.com/#Menu (please choose your date and session length) \nLocation: Outdoor/courtyard \nCost: 20.00-30.00\, choose your date and session length at website link above. \nWhat to bring: Bring your own refillable water bottle (filtered water available inside)\, a bathing suit and robe\, slip-on shoes for moving between indoor/outdoor space. \nNOTE: If you’d like the sauna all to yourself\, we are happy to bring it to you for rental!
URL:https://thephilosophershouse.org/event/sunpod-sundays-mobile-sauna-10/
CATEGORIES:Event
ATTACH;FMTTYPE=image/jpeg:https://thephilosophershouse.org/wp-content/uploads/2026/02/Light-Brown-Minimalist-Calming-New-Sauna-Promo-Beauty-and-Spa-Instagram-Story-5.jpg
ORGANIZER;CN="The Philosophers House":MAILTO:thephilosophershouse@gmail.com
END:VEVENT
BEGIN:VEVENT
DTSTART;TZID=UTC:20260301T130000
DTEND;TZID=UTC:20260301T180000
DTSTAMP:20260421T211755
CREATED:20260418T214943Z
LAST-MODIFIED:20260418T214943Z
UID:10004430-1772370000-1772388000@thephilosophershouse.org
SUMMARY:Sunpod Sundays (Mobile Sauna)
DESCRIPTION:We’re so excited to offer another Community Sesh at the teahouse! Come in from the cold and get HOT in the sauna! \nWe’ll be set up at the teahouse (tea break\, anyone?) from 1pm-5:30pm.  Book a spot before they’re gone! \nWhat is a Community Sesh?\nIt’s where we set up our mobile wood-stove sauna as a shared space for like-minded people (warmth lovers).\n\nHow to register: Reserve your space and time directly at our website https://sunpodsauna.com/#Menu (please choose your date and session length) \nLocation: Outdoor/courtyard \nCost: 20.00-30.00\, choose your date and session length at website link above. \nWhat to bring: Bring your own refillable water bottle (filtered water available inside)\, a bathing suit and robe\, slip-on shoes for moving between indoor/outdoor space. \nNOTE: If you’d like the sauna all to yourself\, we are happy to bring it to you for rental!
URL:https://thephilosophershouse.org/event/sunpod-sundays-mobile-sauna-11/
CATEGORIES:Event
ATTACH;FMTTYPE=image/jpeg:https://thephilosophershouse.org/wp-content/uploads/2026/02/Light-Brown-Minimalist-Calming-New-Sauna-Promo-Beauty-and-Spa-Instagram-Story-5.jpg
ORGANIZER;CN="The Philosophers House":MAILTO:thephilosophershouse@gmail.com
END:VEVENT
BEGIN:VEVENT
DTSTART;TZID=UTC:20260301T130000
DTEND;TZID=UTC:20260301T180000
DTSTAMP:20260421T211755
CREATED:20260419T094944Z
LAST-MODIFIED:20260419T094944Z
UID:10004431-1772370000-1772388000@thephilosophershouse.org
SUMMARY:Sunpod Sundays (Mobile Sauna)
DESCRIPTION:We’re so excited to offer another Community Sesh at the teahouse! Come in from the cold and get HOT in the sauna! \nWe’ll be set up at the teahouse (tea break\, anyone?) from 1pm-5:30pm.  Book a spot before they’re gone! \nWhat is a Community Sesh?\nIt’s where we set up our mobile wood-stove sauna as a shared space for like-minded people (warmth lovers).\n\nHow to register: Reserve your space and time directly at our website https://sunpodsauna.com/#Menu (please choose your date and session length) \nLocation: Outdoor/courtyard \nCost: 20.00-30.00\, choose your date and session length at website link above. \nWhat to bring: Bring your own refillable water bottle (filtered water available inside)\, a bathing suit and robe\, slip-on shoes for moving between indoor/outdoor space. \nNOTE: If you’d like the sauna all to yourself\, we are happy to bring it to you for rental!
URL:https://thephilosophershouse.org/event/sunpod-sundays-mobile-sauna-12/
CATEGORIES:Event
ATTACH;FMTTYPE=image/jpeg:https://thephilosophershouse.org/wp-content/uploads/2026/02/Light-Brown-Minimalist-Calming-New-Sauna-Promo-Beauty-and-Spa-Instagram-Story-5.jpg
ORGANIZER;CN="The Philosophers House":MAILTO:thephilosophershouse@gmail.com
END:VEVENT
BEGIN:VEVENT
DTSTART;TZID=UTC:20260301T130000
DTEND;TZID=UTC:20260301T180000
DTSTAMP:20260421T211755
CREATED:20260419T214943Z
LAST-MODIFIED:20260419T214943Z
UID:10004432-1772370000-1772388000@thephilosophershouse.org
SUMMARY:Sunpod Sundays (Mobile Sauna)
DESCRIPTION:We’re so excited to offer another Community Sesh at the teahouse! Come in from the cold and get HOT in the sauna! \nWe’ll be set up at the teahouse (tea break\, anyone?) from 1pm-5:30pm.  Book a spot before they’re gone! \nWhat is a Community Sesh?\nIt’s where we set up our mobile wood-stove sauna as a shared space for like-minded people (warmth lovers).\n\nHow to register: Reserve your space and time directly at our website https://sunpodsauna.com/#Menu (please choose your date and session length) \nLocation: Outdoor/courtyard \nCost: 20.00-30.00\, choose your date and session length at website link above. \nWhat to bring: Bring your own refillable water bottle (filtered water available inside)\, a bathing suit and robe\, slip-on shoes for moving between indoor/outdoor space. \nNOTE: If you’d like the sauna all to yourself\, we are happy to bring it to you for rental!
URL:https://thephilosophershouse.org/event/sunpod-sundays-mobile-sauna-13/
CATEGORIES:Event
ATTACH;FMTTYPE=image/jpeg:https://thephilosophershouse.org/wp-content/uploads/2026/02/Light-Brown-Minimalist-Calming-New-Sauna-Promo-Beauty-and-Spa-Instagram-Story-5.jpg
ORGANIZER;CN="The Philosophers House":MAILTO:thephilosophershouse@gmail.com
END:VEVENT
BEGIN:VEVENT
DTSTART;TZID=UTC:20260301T130000
DTEND;TZID=UTC:20260301T180000
DTSTAMP:20260421T211755
CREATED:20260420T095018Z
LAST-MODIFIED:20260420T095018Z
UID:10004433-1772370000-1772388000@thephilosophershouse.org
SUMMARY:Sunpod Sundays (Mobile Sauna)
DESCRIPTION:We’re so excited to offer another Community Sesh at the teahouse! Come in from the cold and get HOT in the sauna! \nWe’ll be set up at the teahouse (tea break\, anyone?) from 1pm-5:30pm.  Book a spot before they’re gone! \nWhat is a Community Sesh?\nIt’s where we set up our mobile wood-stove sauna as a shared space for like-minded people (warmth lovers).\n\nHow to register: Reserve your space and time directly at our website https://sunpodsauna.com/#Menu (please choose your date and session length) \nLocation: Outdoor/courtyard \nCost: 20.00-30.00\, choose your date and session length at website link above. \nWhat to bring: Bring your own refillable water bottle (filtered water available inside)\, a bathing suit and robe\, slip-on shoes for moving between indoor/outdoor space. \nNOTE: If you’d like the sauna all to yourself\, we are happy to bring it to you for rental!
URL:https://thephilosophershouse.org/event/sunpod-sundays-mobile-sauna-14/
CATEGORIES:Event
ATTACH;FMTTYPE=image/jpeg:https://thephilosophershouse.org/wp-content/uploads/2026/02/Light-Brown-Minimalist-Calming-New-Sauna-Promo-Beauty-and-Spa-Instagram-Story-5.jpg
ORGANIZER;CN="The Philosophers House":MAILTO:thephilosophershouse@gmail.com
END:VEVENT
BEGIN:VEVENT
DTSTART;TZID=UTC:20260301T130000
DTEND;TZID=UTC:20260301T180000
DTSTAMP:20260421T211755
CREATED:20260420T214944Z
LAST-MODIFIED:20260420T214944Z
UID:10004434-1772370000-1772388000@thephilosophershouse.org
SUMMARY:Sunpod Sundays (Mobile Sauna)
DESCRIPTION:We’re so excited to offer another Community Sesh at the teahouse! Come in from the cold and get HOT in the sauna! \nWe’ll be set up at the teahouse (tea break\, anyone?) from 1pm-5:30pm.  Book a spot before they’re gone! \nWhat is a Community Sesh?\nIt’s where we set up our mobile wood-stove sauna as a shared space for like-minded people (warmth lovers).\n\nHow to register: Reserve your space and time directly at our website https://sunpodsauna.com/#Menu (please choose your date and session length) \nLocation: Outdoor/courtyard \nCost: 20.00-30.00\, choose your date and session length at website link above. \nWhat to bring: Bring your own refillable water bottle (filtered water available inside)\, a bathing suit and robe\, slip-on shoes for moving between indoor/outdoor space. \nNOTE: If you’d like the sauna all to yourself\, we are happy to bring it to you for rental!
URL:https://thephilosophershouse.org/event/sunpod-sundays-mobile-sauna-15/
CATEGORIES:Event
ATTACH;FMTTYPE=image/jpeg:https://thephilosophershouse.org/wp-content/uploads/2026/02/Light-Brown-Minimalist-Calming-New-Sauna-Promo-Beauty-and-Spa-Instagram-Story-5.jpg
ORGANIZER;CN="The Philosophers House":MAILTO:thephilosophershouse@gmail.com
END:VEVENT
BEGIN:VEVENT
DTSTART;TZID=UTC:20260301T130000
DTEND;TZID=UTC:20260301T180000
DTSTAMP:20260421T211755
CREATED:20260421T094943Z
LAST-MODIFIED:20260421T094943Z
UID:10004435-1772370000-1772388000@thephilosophershouse.org
SUMMARY:Sunpod Sundays (Mobile Sauna)
DESCRIPTION:We’re so excited to offer another Community Sesh at the teahouse! Come in from the cold and get HOT in the sauna! \nWe’ll be set up at the teahouse (tea break\, anyone?) from 1pm-5:30pm.  Book a spot before they’re gone! \nWhat is a Community Sesh?\nIt’s where we set up our mobile wood-stove sauna as a shared space for like-minded people (warmth lovers).\n\nHow to register: Reserve your space and time directly at our website https://sunpodsauna.com/#Menu (please choose your date and session length) \nLocation: Outdoor/courtyard \nCost: 20.00-30.00\, choose your date and session length at website link above. \nWhat to bring: Bring your own refillable water bottle (filtered water available inside)\, a bathing suit and robe\, slip-on shoes for moving between indoor/outdoor space. \nNOTE: If you’d like the sauna all to yourself\, we are happy to bring it to you for rental!
URL:https://thephilosophershouse.org/event/sunpod-sundays-mobile-sauna-16/
CATEGORIES:Event
ATTACH;FMTTYPE=image/jpeg:https://thephilosophershouse.org/wp-content/uploads/2026/02/Light-Brown-Minimalist-Calming-New-Sauna-Promo-Beauty-and-Spa-Instagram-Story-5.jpg
ORGANIZER;CN="The Philosophers House":MAILTO:thephilosophershouse@gmail.com
END:VEVENT
END:VCALENDAR