BEGIN:VCALENDAR
VERSION:2.0
PRODID:-//The Philosophers House - ECPv6.15.14//NONSGML v1.0//EN
CALSCALE:GREGORIAN
METHOD:PUBLISH
X-ORIGINAL-URL:https://thephilosophershouse.org
X-WR-CALDESC:Events for The Philosophers House
REFRESH-INTERVAL;VALUE=DURATION:PT1H
X-Robots-Tag:noindex
X-PUBLISHED-TTL:PT1H
BEGIN:VTIMEZONE
TZID:UTC
BEGIN:STANDARD
TZOFFSETFROM:+0000
TZOFFSETTO:+0000
TZNAME:UTC
DTSTART:20250101T000000
END:STANDARD
END:VTIMEZONE
BEGIN:VEVENT
DTSTART;TZID=UTC:20260613T130000
DTEND;TZID=UTC:20260613T160000
DTSTAMP:20260421T211443
CREATED:20260407T194959Z
LAST-MODIFIED:20260407T201313Z
UID:10004377-1781355600-1781366400@thephilosophershouse.org
SUMMARY:Meditations for anxiety (half-day course\, registration required)
DESCRIPTION:Meditations for Anxiety: Half-Day Course \nWith Modern Buddhism Teacher Kadam Sharon Lovich\, Resident Teacher of the Je Tsongkhapa Kadampa Meditation Center in Asheville\, NC \nAnxiety is quite prevalent in these turbulent times. It is common to experience fear and anxiety\, and as a result we often turn to things that don’t address the real problem. We try to numb ourselves with denial\, distractions\, food or other substances\, or we just exhaust ourself trying to control everything around us. In this half-day course based in Buddhist Psychology we will learn time tested methods that will help us to deeply relax and take hold of the ‘mind of anxiety’\, so that it is no longer in control of our life. \nCourse will include guided meditation\, talks\, Q&A and a tea break. Everyone Welcome. \nRegistration Link: https://www.meditationinasheville.org/meditations-for-anxiety-johnson-city-tn/ \nCost: course fee is 30.00 per person \nLocation: Meditation/Classroom space\, 2nd floor
URL:https://thephilosophershouse.org/event/meditations-for-anxiety-half-day-course-registration-required/
CATEGORIES:Dialogue,Event
ATTACH;FMTTYPE=image/png:https://thephilosophershouse.org/wp-content/uploads/2026/04/Meditations-for-Anxiety-JC-Facebook-Post-3.png
END:VEVENT
END:VCALENDAR