BEGIN:VCALENDAR
VERSION:2.0
PRODID:-//The Philosophers House - ECPv6.15.14//NONSGML v1.0//EN
CALSCALE:GREGORIAN
METHOD:PUBLISH
X-ORIGINAL-URL:https://thephilosophershouse.org
X-WR-CALDESC:Events for The Philosophers House
REFRESH-INTERVAL;VALUE=DURATION:PT1H
X-Robots-Tag:noindex
X-PUBLISHED-TTL:PT1H
BEGIN:VTIMEZONE
TZID:America/Halifax
BEGIN:DAYLIGHT
TZOFFSETFROM:-0400
TZOFFSETTO:-0300
TZNAME:ADT
DTSTART:20300310T060000
END:DAYLIGHT
BEGIN:STANDARD
TZOFFSETFROM:-0300
TZOFFSETTO:-0400
TZNAME:AST
DTSTART:20301103T050000
END:STANDARD
BEGIN:DAYLIGHT
TZOFFSETFROM:-0400
TZOFFSETTO:-0300
TZNAME:ADT
DTSTART:20310309T060000
END:DAYLIGHT
BEGIN:STANDARD
TZOFFSETFROM:-0300
TZOFFSETTO:-0400
TZNAME:AST
DTSTART:20311102T050000
END:STANDARD
BEGIN:DAYLIGHT
TZOFFSETFROM:-0400
TZOFFSETTO:-0300
TZNAME:ADT
DTSTART:20320314T060000
END:DAYLIGHT
BEGIN:STANDARD
TZOFFSETFROM:-0300
TZOFFSETTO:-0400
TZNAME:AST
DTSTART:20321107T050000
END:STANDARD
END:VTIMEZONE
BEGIN:VEVENT
DTSTART;TZID=America/Halifax:20310408T173000
DTEND;TZID=America/Halifax:20310408T190000
DTSTAMP:20260423T013754
CREATED:20260105T020641Z
LAST-MODIFIED:20260108T184636Z
UID:10004403-1933435800-1933441200@thephilosophershouse.org
SUMMARY:Steeped in Stories Author Meetup
DESCRIPTION:Twice-Monthly meet up for local authors on the 2nd and 4th Tuesdays: The goal is to be in community and encourage fellow authors on their current projects. We’ll do group feedback\, discuss local events and collaborations\, and have various discussion topics on the craft of writing\, and the business of selling\, books.\nFeel free to drop in\, but if you’d like to get on the email list to request feedback on a project or hear specifics about each month’s topic\, email Molly McDonough at mcdonough.author@gmail.com. \nThe suggested payment for this event is a $5 donation to Philosopher’s House or the purchase of food or drink. \nHow to register: Drop-in OR email Molly to get on email list \nLocation: 2nd floor\, drawing room \nCost: 5.00 donation at the following Steeped in Stories Donation or food/drink purchases encouraged.
URL:https://thephilosophershouse.org/event/steeped-in-stories-author-meetup-3/2031-04-08/
CATEGORIES:Dialogue,Literature
ATTACH;FMTTYPE=image/jpeg:https://thephilosophershouse.org/wp-content/uploads/2026/01/Facebook-banner-3-8E8Tuq.tmp_.jpg
END:VEVENT
BEGIN:VEVENT
DTSTART;TZID=America/Halifax:20310412T163000
DTEND;TZID=America/Halifax:20310412T173000
DTSTAMP:20260423T013754
CREATED:20260105T014013Z
LAST-MODIFIED:20260313T191922Z
UID:10004388-1933777800-1933781400@thephilosophershouse.org
SUMMARY:Drawing and Tea Social
DESCRIPTION:Drawing and Tea Social: We support and appreciate each other’s artistic journeys. We have weekly challenges\, sketchbook tours\, art mentoring and more. \nWhen: Saturdays at 4:30 – 5-30p \nLocation: Tea Table\, 1st floor \nOrganizer contact: Benjamin Abbott with The FADE Initiative. Email: benjaminabbott3@gmail.com or Laura Carlson at Laura@fadeinit.org \nWhat to bring: any dry art and dry materials you would like to work on (Pencil\, charcoal\, pastel are ok. Please refrain from bringing any glitter or wet medias such as ink or paint.) \nSeating is limited\, and dependent on which room we will occupy: 10 people maximum can attend. \nLearn more and RSVP at https://fadeinit.org/events
URL:https://thephilosophershouse.org/event/drawing-and-tea-social/2031-04-12/
LOCATION:The Philosopher’s House\, 117 W Fairview Ave.\, Johnson City\, 37604
CATEGORIES:Art,Dialogue
ATTACH;FMTTYPE=image/jpeg:https://thephilosophershouse.org/wp-content/uploads/2026/01/Black-White-Sketch-Drawing-Art-School-Poster-2.jpg
END:VEVENT
END:VCALENDAR